BEGIN:VCALENDAR
VERSION:2.0
PRODID:-//eventon.com NONSGML v1.0//EN
CALSCALE:GREGORIAN
METHOD:PUBLISH
BEGIN:VEVENT
UID:69e611c945428
DTSTAMP:20260420T114513Z
DTSTART:20200507T100000Z
DTEND:20200507T110000Z
LOCATION:48FM Liege
SUMMARY:Giraffes & Penguins Radio @ 48FM Radio (Liege)
DESCRIPTION:Giraffes & Penguins Radio @ 48FM Radio (Liege)\nhttps://www.reb
 elup.org/events/giraffes-penguins-mix-w-ani-of-tropical-djipsies-48fm-radio
 -liege/
URL:https://www.rebelup.org/events/giraffes-penguins-mix-w-ani-of-tropical-djipsies-48fm-radio-liege/
END:VEVENT
END:VCALENDAR