BEGIN:VCALENDAR
VERSION:2.0
PRODID:-//eventon.com NONSGML v1.0//EN
CALSCALE:GREGORIAN
METHOD:PUBLISH
BEGIN:VEVENT
UID:69e60203baeee
DTSTAMP:20260420T103755Z
DTSTART:20200222T190000Z
DTEND:20200221T230000Z
LOCATION:Au Quai 23 Quai du Hainaut\,  1080\,  Bruxelles
SUMMARY:Rebel Up + Giraffes & Penguins @ S'Aqua Lover\,  Collectif Au Quai\,  Bxl
DESCRIPTION:\nhttps://www.rebelup.org/events/rebel-up-giraffes-penguins-se-
 lover-au-quai-bxl/
URL:https://www.rebelup.org/events/rebel-up-giraffes-penguins-se-lover-au-quai-bxl/
END:VEVENT
END:VCALENDAR