BEGIN:VCALENDAR
VERSION:2.0
PRODID:-//eventon.com NONSGML v1.0//EN
CALSCALE:GREGORIAN
METHOD:PUBLISH
BEGIN:VEVENT
UID:69e88d891b638
DTSTAMP:20260422T085745Z
DTSTART:20260605T180000Z
DTEND:20260606T010000Z
LOCATION:Brasserie de la Mule Rue Rubens 95\,  1030 Schaerbeek
SUMMARY:Rebel Up takeover\,  Popdragon (live) + afterparty @ Brasserie de la Mule\,  Bxl
DESCRIPTION:\nhttps://www.rebelup.org/events/rebel-up-takeover-popdragon-al
 bum-release-party-brasserie-de-la-mule-bxl/
URL:https://www.rebelup.org/events/rebel-up-takeover-popdragon-album-release-party-brasserie-de-la-mule-bxl/
END:VEVENT
END:VCALENDAR