BEGIN:VCALENDAR
VERSION:2.0
PRODID:-//eventon.com NONSGML v1.0//EN
CALSCALE:GREGORIAN
METHOD:PUBLISH
BEGIN:VEVENT
UID:69e60baf2b3b4
DTSTAMP:20260420T111911Z
DTSTART:20260509T180000Z
DTEND:20260510T010000Z
LOCATION:Brasserie de la Mule Rue Rubens 95\,  1030 Schaerbeek
SUMMARY:Rebel Up night @ Brasserie de la Mule\,  Bxl
DESCRIPTION:\nhttps://www.rebelup.org/events/rebel-up-night-brasserie-de-la
 -mule-bxl-4/
URL:https://www.rebelup.org/events/rebel-up-night-brasserie-de-la-mule-bxl-4/
END:VEVENT
END:VCALENDAR