BEGIN:VCALENDAR
VERSION:2.0
PRODID:-//eventon.com NONSGML v1.0//EN
CALSCALE:GREGORIAN
METHOD:PUBLISH
BEGIN:VEVENT
UID:69e600211dbd5
DTSTAMP:20260420T102953Z
DTSTART:20260411T180000Z
DTEND:20260412T010000Z
LOCATION:Brasserie de la Mule Rue Rubens 95\,  1030 Schaerbeek
SUMMARY:Rebel Up night w/ Loya & Remanindry Family (LIVE) @ Brasserie de la Mule\,  Bxl
DESCRIPTION:\nhttps://www.rebelup.org/events/rebel-up-night-brasserie-de-la
 -mule-bxl-3/
URL:https://www.rebelup.org/events/rebel-up-night-brasserie-de-la-mule-bxl-3/
END:VEVENT
END:VCALENDAR